BEGIN:VCALENDAR
VERSION:2.0
PRODID:-//RACE TALKS: Uniting to Break the Chains of Racism - ECPv6.15.20//NONSGML v1.0//EN
CALSCALE:GREGORIAN
METHOD:PUBLISH
X-WR-CALNAME:RACE TALKS: Uniting to Break the Chains of Racism
X-ORIGINAL-URL:https://racetalkspdx.com
X-WR-CALDESC:Events for RACE TALKS: Uniting to Break the Chains of Racism
REFRESH-INTERVAL;VALUE=DURATION:PT1H
X-Robots-Tag:noindex
X-PUBLISHED-TTL:PT1H
BEGIN:VTIMEZONE
TZID:America/Vancouver
BEGIN:DAYLIGHT
TZOFFSETFROM:-0800
TZOFFSETTO:-0700
TZNAME:PDT
DTSTART:20210314T100000
END:DAYLIGHT
BEGIN:STANDARD
TZOFFSETFROM:-0700
TZOFFSETTO:-0800
TZNAME:PST
DTSTART:20211107T090000
END:STANDARD
BEGIN:DAYLIGHT
TZOFFSETFROM:-0800
TZOFFSETTO:-0700
TZNAME:PDT
DTSTART:20220313T100000
END:DAYLIGHT
BEGIN:STANDARD
TZOFFSETFROM:-0700
TZOFFSETTO:-0800
TZNAME:PST
DTSTART:20221106T090000
END:STANDARD
BEGIN:DAYLIGHT
TZOFFSETFROM:-0800
TZOFFSETTO:-0700
TZNAME:PDT
DTSTART:20230312T100000
END:DAYLIGHT
BEGIN:STANDARD
TZOFFSETFROM:-0700
TZOFFSETTO:-0800
TZNAME:PST
DTSTART:20231105T090000
END:STANDARD
BEGIN:DAYLIGHT
TZOFFSETFROM:-0800
TZOFFSETTO:-0700
TZNAME:PDT
DTSTART:20240310T100000
END:DAYLIGHT
BEGIN:STANDARD
TZOFFSETFROM:-0700
TZOFFSETTO:-0800
TZNAME:PST
DTSTART:20241103T090000
END:STANDARD
BEGIN:DAYLIGHT
TZOFFSETFROM:-0800
TZOFFSETTO:-0700
TZNAME:PDT
DTSTART:20250309T100000
END:DAYLIGHT
BEGIN:STANDARD
TZOFFSETFROM:-0700
TZOFFSETTO:-0800
TZNAME:PST
DTSTART:20251102T090000
END:STANDARD
BEGIN:DAYLIGHT
TZOFFSETFROM:-0800
TZOFFSETTO:-0700
TZNAME:PDT
DTSTART:20260308T100000
END:DAYLIGHT
BEGIN:STANDARD
TZOFFSETFROM:-0700
TZOFFSETTO:-0800
TZNAME:PST
DTSTART:20261101T090000
END:STANDARD
END:VTIMEZONE
BEGIN:VEVENT
DTSTART;TZID=America/Vancouver:20250619T183000
DTEND;TZID=America/Vancouver:20250619T220000
DTSTAMP:20260425T140559
CREATED:20240419T223818Z
LAST-MODIFIED:20260409T151116Z
UID:10000072-1750357800-1750370400@racetalkspdx.com
SUMMARY:The 4th Annual History of Black Drag in Portland - A Juneteenth and Pride Celebration  An Evening of Conversation & Performance
DESCRIPTION:Doors: 6:30p / Showtime: 7p\nAll ages welcome – children 12 and under are free\nBIPOC & QTBIPOC eligible for community supported ticket – includes admission and meal voucher\nemail info@racetalkspdx.com to RSVP for community supported ticket.\n\nRACE TALKS: Uniting to Break the Chains of Racism\, McMenamins History Department\, Poison Waters and local Black drag queens\, and sponsoring community partners are teaming up for a third year to present The History of Black Drag in Portland\, an intersectional Pride and Juneteenth event that explores the history and contemporary experience of Black drag in Portland\, Oregon. \nThis one-night event features an all-star panel of local drag queens followed by fabulous drag performances. We began this special forum in an effort to hold space for BIPOC folx in Portland during Pride; and close the gap of miseducation and intolerance between our BIPOC and QTBIPOC communities. In our first year\, we emphasized QTBIPOC and BIPOC in-person attendance because there are few Pride events that are centered around Black and brown queer folx in Portland.  Given the positive feedback we received from the past two years\, and the heightened ignorance and attacks on the Black\, Trans\, and Drag communities throughout our country\, we are continuing this annual celebratory event. Join us! \n\nEvent Consultants & Co-Hosts:\nLawanda Jackson\nIsaiah Esquire\nPanelists:\nKrystal Lynn Benoit\nBruce the Drag King\nCruz Daniels\nFlawless Shade\nAqua Flora\nPerformers:\nLawanda Jackson\nIsaiah Esquire\nKrystal Lynn Benoit\nCruz Daniels\nFlawless Shade\nAqua Flora\nMona Chrome\nMore information about Event Consultants & Co-Hosts\, Panelists\, and Performers here.
URL:https://racetalkspdx.com/event/black-drag-pdx-2025/
LOCATION:McMenamins Kennedy School Theater\, 5736 NE 33rd Ave\, Portland\, OR\, 97211\, United States
CATEGORIES:Community Calendar,RACE TALKS Event
ATTACH;FMTTYPE=image/jpeg:https://racetalkspdx.com/wp-content/uploads/2024/04/Race-Talk-BLACK-DRAG-PDX-POSTER-JUNE-2025.jpg
ORGANIZER;CN="RACE TALKS%3A Uniting to Break the Chains of Racism":MAILTO:info@racetalkspdx.com
END:VEVENT
BEGIN:VEVENT
DTSTART;TZID=America/Vancouver:20231010T183000
DTEND;TZID=America/Vancouver:20231010T213000
DTSTAMP:20260425T140559
CREATED:20231004T232844Z
LAST-MODIFIED:20231004T233910Z
UID:10000069-1696962600-1696973400@racetalkspdx.com
SUMMARY:THE BLIND SIDE
DESCRIPTION:5:30pm doors • 6:15pm intro 6:30pm movie – Q&A to follow\n$6 adults/$4 children 12 and under \n• Ticket includes personal size popcorn •\n2009 – PG-13 • Minor with guardian \nBased on the life of Michael Oher\, a Black teenager who\, in the movie\, was adopted by Leigh Anne and Sean Tuohy\, a wealthy white couple in Tennessee. Michael Oher went on to become a Super Bowl-winning NFL football player famous for the film’s rags-to-riches story. \nRecent controversy over Oher’s real relationship with the Tuohy family alleges they never adopted him\, but instead made themselves conservators over his earnings\, and financially exploited Oher. \nWe will discuss how the film’s portrayal holds up today\, and how complicated issues of race\, privilege\, and white saviorism\, via adoption\, hit close to home through the Hart family tragedy of 2018.
URL:https://racetalkspdx.com/event/the-blind-side/
LOCATION:McMenamins Kennedy School Theater\, 5736 NE 33rd Ave\, Portland\, OR\, 97211\, United States
CATEGORIES:Community Calendar,Movies + Conversations,RACE TALKS Event
ATTACH;FMTTYPE=image/jpeg:https://racetalkspdx.com/wp-content/uploads/2023/10/blind-side-poster-no-border-fixed-copy.jpeg
ORGANIZER;CN="RACE TALKS%3A Uniting to Break the Chains of Racism":MAILTO:info@racetalkspdx.com
END:VEVENT
BEGIN:VEVENT
DTSTART;TZID=America/Vancouver:20230808T183000
DTEND;TZID=America/Vancouver:20230808T213000
DTSTAMP:20260425T140559
CREATED:20230725T192318Z
LAST-MODIFIED:20230823T014416Z
UID:10000063-1691519400-1691530200@racetalkspdx.com
SUMMARY:The Day of the Gun
DESCRIPTION:Join us for RACE TALKS Movies + Conversations on August 8th to commemorate Black August\, an annual event that highlights political prisoners. The Day of the Gun documentary revisits the events leading up to the death of George Jackson in 1971\, an incarcerated leader of Black liberation in the 1960s-70s. Featured community host Amber Boydston of Spirited Justice will lead audience discussion after the film\, examining this issue through an abolitionist eye and exploring questions of whether Black freedom is attainable while prisons exist. \n6pm doors\, 6:45pm newcomer welcome\nSuggested donation\nAll ages welcome
URL:https://racetalkspdx.com/event/the-day-of-the-gun/
LOCATION:McMenamins Kennedy School Theater\, 5736 NE 33rd Ave\, Portland\, OR\, 97211\, United States
CATEGORIES:Community Calendar,Forums,Movies + Conversations,RACE TALKS Event
ATTACH;FMTTYPE=image/jpeg:https://racetalkspdx.com/wp-content/uploads/2023/07/the-day-of-the-gun-e1691000685917.jpeg
ORGANIZER;CN="RACE TALKS%3A Uniting to Break the Chains of Racism":MAILTO:info@racetalkspdx.com
END:VEVENT
BEGIN:VEVENT
DTSTART;TZID=America/Vancouver:20230616T190000
DTEND;TZID=America/Vancouver:20230616T220000
DTSTAMP:20260425T140559
CREATED:20230511T211637Z
LAST-MODIFIED:20230512T182356Z
UID:10000060-1686942000-1686952800@racetalkspdx.com
SUMMARY:The History of Black Drag in Portland: An Evening of Conversation & Performance
DESCRIPTION:ALL COMMUNITY\nDoors at 6:00 PM\, Program at 6:45 PM\nLearn more about the Intersectionality between Pride and Juneteenth on our BLACK DRAG PDX event page.\n\nTICKET INFO\nCommunity Supported Tickets are available upon request for anyone who identifies as Black\, Indigenous\, People of Color (BIPOC)\, LGBTQIA2S+\, as well as students and seniors (65+).\nSTEP 1: Sign up for Community Supported Tickets Program here.\nSTEP 2: Return to this event page and RSVP for your in-person or virtual Community Supported ticket.
URL:https://racetalkspdx.com/event/the-history-of-black-drag-in-portland-an-evening-of-conversation-performance-3/
LOCATION:McMenamins Kennedy School Theater\, 5736 NE 33rd Ave\, Portland\, OR\, 97211\, United States
CATEGORIES:Community Calendar,Conversation Series,RACE TALKS Event
ATTACH;FMTTYPE=image/jpeg:https://racetalkspdx.com/wp-content/uploads/2023/05/FINAL-2023-History-of-Black-Drag-in-Portland-1-1.jpg
ORGANIZER;CN="RACE TALKS%3A Uniting to Break the Chains of Racism":MAILTO:info@racetalkspdx.com
END:VEVENT
BEGIN:VEVENT
DTSTART;TZID=America/Vancouver:20230615T190000
DTEND;TZID=America/Vancouver:20230615T220000
DTSTAMP:20260425T140559
CREATED:20230511T211545Z
LAST-MODIFIED:20230512T182307Z
UID:10000058-1686855600-1686866400@racetalkspdx.com
SUMMARY:The History of Black Drag in Portland: An Evening of Conversation & Performance
DESCRIPTION:BIPOC NIGHT\nDoors at 6:00 PM\, Program at 6:45 PM\nLearn more about the Intersectionality between Pride and Juneteenth on our BLACK DRAG PDX event page.\n\nTICKET INFO\nCommunity Supported Tickets are available upon request for anyone who identifies as Black\, Indigenous\, People of Color (BIPOC)\, LGBTQIA2S+\, as well as students and seniors (65+).\nSTEP 1: Sign up for Community Supported Tickets Program here. \nSTEP 2: Return to this event page and RSVP for your in-person or virtual Community Supported ticket.
URL:https://racetalkspdx.com/event/the-history-of-black-drag-in-portland-an-evening-of-conversation-performance-2/
LOCATION:McMenamins Kennedy School Theater\, 5736 NE 33rd Ave\, Portland\, OR\, 97211\, United States
CATEGORIES:Community Calendar,Conversation Series,RACE TALKS Event
ATTACH;FMTTYPE=image/jpeg:https://racetalkspdx.com/wp-content/uploads/2023/05/FINAL-2023-History-of-Black-Drag-in-Portland-1-1.jpg
ORGANIZER;CN="RACE TALKS%3A Uniting to Break the Chains of Racism":MAILTO:info@racetalkspdx.com
END:VEVENT
BEGIN:VEVENT
DTSTART;TZID=America/Vancouver:20230613T190000
DTEND;TZID=America/Vancouver:20230613T213000
DTSTAMP:20260425T140559
CREATED:20230518T222653Z
LAST-MODIFIED:20230525T230709Z
UID:10000061-1686682800-1686691800@racetalkspdx.com
SUMMARY: Black as U R
DESCRIPTION:Tuesday\, June 13th\, doors 6p\, film 7p\, with panel discussion to follow \nJoin RACE TALKS and Portland Drag icon Poison Waters for a screening and discussion of Micheal Rice’s award-winning film BLACK AS U R: Confronting the Pain & Beauty of Black Queer Life. \nDo all black lives matter\, or only heterosexual black lives?\nThis is the question theater and film director Micheal Rice explores in this powerful\, deep\, necessary dive into the intertwined damage of racism and homophobia within Black communities. \n \nWEBSITE for BLACK AS U R
URL:https://racetalkspdx.com/event/black-as-u-r/
LOCATION:McMenamins Kennedy School Theater\, 5736 NE 33rd Ave\, Portland\, OR\, 97211\, United States
CATEGORIES:Community Calendar,Conversation Series,Forums,Movies + Conversations,RACE TALKS Event
ATTACH;FMTTYPE=image/jpeg:https://racetalkspdx.com/wp-content/uploads/2023/05/RACE-TALKS-June-events.jpg
ORGANIZER;CN="RACE TALKS%3A Uniting to Break the Chains of Racism":MAILTO:info@racetalkspdx.com
END:VEVENT
BEGIN:VEVENT
DTSTART;TZID=America/Vancouver:20230427T183000
DTEND;TZID=America/Vancouver:20230427T183000
DTSTAMP:20260425T140559
CREATED:20230427T194057Z
LAST-MODIFIED:20230427T194351Z
UID:10000055-1682620200-1682620200@racetalkspdx.com
SUMMARY:The Swimmers
DESCRIPTION:The Swimmers is based on the true story of two sisters fleeing war-torn Syria. Guided discussion after the film\, acknowledging April is Arab-American History Month and Sexual Assault Prevention Month. This film is PG-13 and includes some scenes of violence and SA. Minors under 18 with parent or guardian. \n5:30pm Doors\n6:15pm Newcomer Welcome\n6:30pm Screening\n$5 Adults/$3 Minors Under 12 \nGuided discussion to follow. Admission includes a personal sized popcorn!
URL:https://racetalkspdx.com/event/the-swimmers/
LOCATION:McMenamins Kennedy School Theater\, 5736 NE 33rd Ave\, Portland\, OR\, 97211\, United States
CATEGORIES:Community & Conversations,Movies + Conversations,RACE TALKS Event
ATTACH;FMTTYPE=image/jpeg:https://racetalkspdx.com/wp-content/uploads/2023/04/KS-Movie-Convo-The-Swimmers-0423.jpg
ORGANIZER;CN="RACE TALKS%3A Uniting to Break the Chains of Racism":MAILTO:info@racetalkspdx.com
END:VEVENT
BEGIN:VEVENT
DTSTART;TZID=America/Vancouver:20230424T190000
DTEND;TZID=America/Vancouver:20230424T203000
DTSTAMP:20260425T140559
CREATED:20230317T204712Z
LAST-MODIFIED:20230329T001909Z
UID:10000049-1682362800-1682368200@racetalkspdx.com
SUMMARY:History Pub - Stewart Udall and the Politics of Beauty
DESCRIPTION:Documentary Film Screening and Panel Discussion \nStewart Udall was the Secretary of the Interior from 1961-1969 during the Kennedy and Johnson administrations. He led the way for the most important environmental legislation in US history and spearheaded the expansion of the national park system and wildlife refuges. Udall was a fierce advocate for racial justice\, peace\, and Native American rights. He was the first public official to warn America about the dangers of climate change and his accomplishments have had a lasting impact on public policy and the modern environmental movement. This documentary is the eye-opening story of one of the most influential public servants whose great legacy deserves wide recognition. \nJoin PBS producer and filmmaker\, John de Graaf; former U.S. Senator\, Gordon H. Smith; CEO of Planned Parenthood Columbia Willamette\, Anne Udall; and author Tim Palmer in a post-screening discussion facilitated by OHS Executive Director\, Kerry Tymchuk. Speakers will expand upon Stewart Udall’s profound legacy of conservation and environmental justice.
URL:https://racetalkspdx.com/event/history-pub-stewart-udall-and-the-politics-of-beauty/
LOCATION:McMenamins Kennedy School Theater\, 5736 NE 33rd Ave\, Portland\, OR\, 97211\, United States
CATEGORIES:Community Calendar,RACE TALKS Event
ATTACH;FMTTYPE=image/jpeg:https://racetalkspdx.com/wp-content/uploads/2023/03/KS_REVISED_Udall_History-Pub-Poster_042423_v4.jpg
END:VEVENT
BEGIN:VEVENT
DTSTART;TZID=America/Vancouver:20230227T190000
DTEND;TZID=America/Vancouver:20230227T210000
DTSTAMP:20260425T140559
CREATED:20230207T201236Z
LAST-MODIFIED:20230207T201236Z
UID:10000043-1677524400-1677531600@racetalkspdx.com
SUMMARY:Buffalo Soldiers: Fighting on Two Fronts
DESCRIPTION:McMenamins and Oregon Historical Society have teamed up for a Black History Month viewing of Buffalo Soldiers: Fighting on Two Fronts-directed by Dru Holley of Vancouver\, Washington. Holley will be at the event to answer questions after the presentation. The Buffalo Soldiers-a post-Civil War African American regiment in the United States Army-fought military conflicts abroad and civil rights struggles at home. The story of the Buffalo Soldiers involves historical complexities like race\, class\, power\, colonialism\, and western expansion. This film focuses on these Black men\, named and nameless\, who were part of this complicated history of the American West. Buffalo Soldiers: Fighting on Two Fronts was recently named Pacific Northwest Best Documentary at the Tacoma Film Festival\, winning the Audience Choice Award.
URL:https://racetalkspdx.com/event/buffalo-soldiers-fighting-on-two-fronts/
LOCATION:McMenamins Kennedy School Theater\, 5736 NE 33rd Ave\, Portland\, OR\, 97211\, United States
CATEGORIES:Community Calendar
ATTACH;FMTTYPE=image/jpeg:https://racetalkspdx.com/wp-content/uploads/2023/02/Buffalo-Soliders-photo-1.jpeg
END:VEVENT
BEGIN:VEVENT
DTSTART;TZID=America/Vancouver:20220913T190000
DTEND;TZID=America/Vancouver:20220913T213000
DTSTAMP:20260425T140559
CREATED:20220412T213325Z
LAST-MODIFIED:20220412T213325Z
UID:10000034-1663095600-1663104600@racetalkspdx.com
SUMMARY:Books + Conversations
DESCRIPTION:  \nAbout Books + Conversations\nThe RACE TALKS Books + Conversations is an opportunity to participate in a book group facilitated by RACE TALKS: Uniting the Break the Chains of Racism. In-person or virtual participation may vary based on COVID protocols. Sign-up is offered quarterly and tickets will include the purchase of that month’s featured book. Books + Conversations are partnering exclusively with Third Eye Books.  \nFor the past 11 years\, RACE TALKS has offered a monthly community program. Each month a panel\, usually comprised primarily of People of Color\, is invited to discuss “a Historical or Contemporary Experience through the lens of RACE and RACISM.” From these discussions\, we’re hoping to start a life-long dialogue between groups of people who generally talk about each other\, but not to each other.  \n\n \n \n \n \n \n \n \n \n \n \n \n 
URL:https://racetalkspdx.com/event/books-conversations-2/
LOCATION:McMenamins Kennedy School Theater\, 5736 NE 33rd Ave\, Portland\, OR\, 97211\, United States
CATEGORIES:Books + Conversations,Community Calendar,Conversation Series,Forums,RACE TALKS Event
ATTACH;FMTTYPE=image/png:https://racetalkspdx.com/wp-content/uploads/2022/02/1.png
ORGANIZER;CN="RACE TALKS%3A Uniting to Break the Chains of Racism":MAILTO:info@racetalkspdx.com
END:VEVENT
BEGIN:VEVENT
DTSTART;TZID=America/Vancouver:20220616T190000
DTEND;TZID=America/Vancouver:20220616T210000
DTSTAMP:20260425T140559
CREATED:20220331T163558Z
LAST-MODIFIED:20220617T012902Z
UID:10000013-1655406000-1655413200@racetalkspdx.com
SUMMARY:The History of Black Drag in Portland: An Evening of Conversation & Performance
DESCRIPTION:Doors at 6:00 PM\, Program at 6:45 PM\nKEEP SCROLLING FOR TICKETS!\nVISIT OUR EVENT SITE TO LEARN MORE ABOUT THE INTERSECTIONALITY BETWEEN PRIDE AND JUNETEENTH\n\nTICKETS\nVirtual Tickets will be available until 10:00 PM \nCommunity Supported Tickets are available upon request for anyone who identifies as Black\, Indigenous\, People of Color (BIPOC)\, LGBTQIA2S+\, as well as students and seniors (65+).\nSTEP 1: Sign up for Community Supported Tickets Program here. \nSTEP 2: Return to this event page and RSVP for your in-person or virtual Community Supported ticket.
URL:https://racetalkspdx.com/event/history-of-black-drag-in-portland-an-evening-of-conversation-performance/
LOCATION:McMenamins Kennedy School Theater\, 5736 NE 33rd Ave\, Portland\, OR\, 97211\, United States
CATEGORIES:Community Calendar,Forums,RACE TALKS Event,Virtual Forum
ATTACH;FMTTYPE=image/jpeg:https://racetalkspdx.com/wp-content/uploads/2022/03/An-Evening-of-Conversation-Performance-The-History-of-Black-Drag-in-Portland.jpg
ORGANIZER;CN="RACE TALKS%3A Uniting to Break the Chains of Racism":MAILTO:info@racetalkspdx.com
END:VEVENT
BEGIN:VEVENT
DTSTART;TZID=America/Vancouver:20220614T190000
DTEND;TZID=America/Vancouver:20220614T213000
DTSTAMP:20260425T140559
CREATED:20220331T165430Z
LAST-MODIFIED:20220613T183545Z
UID:10000023-1655233200-1655242200@racetalkspdx.com
SUMMARY:Books + Conversations
DESCRIPTION:Representatives from North Portland and Multnomah County Library will be at the RACE TALKS Books + Conversations Community Town Hall to discuss the upcoming renovation of the library building\, which will result in a temporary closure. We will also discuss plans for a Cultural Heritage Center. \nAbout Books + Conversations\nThe RACE TALKS Books + Conversations is an opportunity to participate in a book group facilitated by RACE TALKS: Uniting the Break the Chains of Racism. In-person or virtual participation may vary based on COVID protocols. Sign-up is offered quarterly and tickets will include the purchase of that month’s featured book. Books + Conversations are partnering exclusively with Third Eye Books.  \nFor the past 11 years\, RACE TALKS has offered a monthly community program. Each month a panel\, usually comprised primarily of People of Color\, is invited to discuss “a Historical or Contemporary Experience through the lens of RACE and RACISM.” From these discussions\, we’re hoping to start a life-long dialogue between groups of people who generally talk about each other\, but not to each other.  \n\n \n \n \n \n \n \n \n \n \n \n \n 
URL:https://racetalkspdx.com/event/books-conversations/
LOCATION:McMenamins Kennedy School Theater\, 5736 NE 33rd Ave\, Portland\, OR\, 97211\, United States
CATEGORIES:Books + Conversations,Community Calendar,Conversation Series,Forums,RACE TALKS Event
ATTACH;FMTTYPE=image/png:https://racetalkspdx.com/wp-content/uploads/2022/03/May-2022-BC-Poster-Final-.png
ORGANIZER;CN="RACE TALKS%3A Uniting to Break the Chains of Racism":MAILTO:info@racetalkspdx.com
END:VEVENT
BEGIN:VEVENT
DTSTART;TZID=America/Vancouver:20220308T190000
DTEND;TZID=America/Vancouver:20220308T213000
DTSTAMP:20260425T140559
CREATED:20220204T233251Z
LAST-MODIFIED:20220309T165631Z
UID:10000030-1646766000-1646775000@racetalkspdx.com
SUMMARY:Books + Conversations
DESCRIPTION:March 2022 Books + Conversations\nFor our first RACE TALKS Books + Conversations\, we will be reading All That She Carried: The Journey of Ashley’s Sack\, A Black Family Keepsake by Dr. Tiya Miles. Michelle Lewis\, co-owner of Third Eye Books\, Oregon’s only Black-owned brick-and-mortar bookstore in Oregon\, will moderate the discussion with Dr. Miles. Following their discussion\, there will be a 15 minute Q&A\, and afterward\, we will break out into our RACE TALKS facilitated discussion groups to discuss the program. \nPurchase All That She Carried through Third Eye Books\, Oregon’s only Black-owned brick-and-mortar book store. Use the code RACETALKS2022 at checkout for a discount. \nGet Your Copy Now \nAbout Books + Conversations\nThe RACE TALKS Books + Conversations is an opportunity to participate in a book group facilitated by RACE TALKS: Uniting the Break the Chains of Racism. In-person or virtual participation may vary based on COVID protocols. Sign-up is offered quarterly and tickets will include the purchase of that month’s featured book. Books + Conversations are partnering exclusively with Third Eye Books.  \nFor the past 11 years\, RACE TALKS has offered a monthly community program. Each month a panel\, usually comprised primarily of People of Color\, is invited to discuss “a Historical or Contemporary Experience through the lens of RACE and RACISM.” From these discussions\, we’re hoping to start a life-long dialogue between groups of people who generally talk about each other\, but not to each other.  \n\n \n \n \n \n \n \n \n \n \n \n \n 
URL:https://racetalkspdx.com/event/books-and-conversations-tiya-miles-all-that-she-carried/
LOCATION:McMenamins Kennedy School Theater\, 5736 NE 33rd Ave\, Portland\, OR\, 97211\, United States
CATEGORIES:Books + Conversations,Community Calendar,Conversation Series,Forums,RACE TALKS Event
ATTACH;FMTTYPE=image/png:https://racetalkspdx.com/wp-content/uploads/2022/02/March-Books-Conversations-Banner-FB-Event-Cover-5.png
ORGANIZER;CN="RACE TALKS%3A Uniting to Break the Chains of Racism":MAILTO:info@racetalkspdx.com
END:VEVENT
BEGIN:VEVENT
DTSTART;TZID=America/Vancouver:20220208T190000
DTEND;TZID=America/Vancouver:20220208T210000
DTSTAMP:20260425T140559
CREATED:20220126T232834Z
LAST-MODIFIED:20220216T215532Z
UID:10000029-1644346800-1644354000@racetalkspdx.com
SUMMARY:Movies + Conversations Series
DESCRIPTION:About this event\nThis will be a HYBRID event\, at McMenamins Kennedy School and on Zoom.\n\n\nTuesday\, February 8\, 2022\nIn-Person: Doors: 6:00 PMVirtual & In-Person:Newcomer Welcome 6:45 PM | Forum 7:00 PM\nIn-Person – McMenamins Kennedy School\, Portland\, OR All ages\, $25 voluntary donation per adult to support RACE TALKS programming.  \nVirtual – ZoomAll ages\, $25 voluntary donation per household to support RACE TALKS programming \n(Community supported and sliding scale tickets available\, see below for more information.)\nJoin us next week for our very first Movies + Conversations where we revisit the history of Vanport\, the largest flood in U.S. history prior to Katrina! \nWe are very excited to be partnering with Vanport Mosaic\, Spirited Justice\, and McMenamins.\nSliding Scale \nWe have created sliding scale tickets for community members who are unable to pay the general ticket admission price. We recognize that financial circumstances shift and appreciate people accessing the sliding scale on an as-needed basis. \nWe would appreciate anyone who is able to make a donation toward our sliding scale and community-supported tickets to do so. We rely on your generous contributions to support this work and keep it available to all community members. \nCommunity-Supported Tickets: \nWe are pleased to announce that we offer free\, community-supported tickets. These tickets require a verification process. Start the verification process here. Please allow up to 5 business days for us to review your submission. \nThere will be no same-day event sales for the community-supported tickets\, so make sure to get your tickets in advance. \nCommunity-supported tickets are available to: \n\nBlack\, Indigenous\, People of Color (BIPOC)\nLGBTQIA2S+\nStudents\nSeniors (65+)
URL:https://racetalkspdx.com/event/opb-oregon-experience-the-flooding-of-vanport/
LOCATION:McMenamins Kennedy School Theater\, 5736 NE 33rd Ave\, Portland\, OR\, 97211\, United States
CATEGORIES:Movies + Conversations,RACE TALKS Event
ATTACH;FMTTYPE=image/png:https://racetalkspdx.com/wp-content/uploads/2022/01/Final-February-Movie-Conversations-Poster-1.png
ORGANIZER;CN="RACE TALKS%3A Uniting to Break the Chains of Racism":MAILTO:info@racetalkspdx.com
END:VEVENT
END:VCALENDAR