BEGIN:VCALENDAR
VERSION:2.0
PRODID:-//RACE TALKS: Uniting to Break the Chains of Racism - ECPv6.15.20//NONSGML v1.0//EN
CALSCALE:GREGORIAN
METHOD:PUBLISH
X-WR-CALNAME:RACE TALKS: Uniting to Break the Chains of Racism
X-ORIGINAL-URL:https://racetalkspdx.com
X-WR-CALDESC:Events for RACE TALKS: Uniting to Break the Chains of Racism
REFRESH-INTERVAL;VALUE=DURATION:PT1H
X-Robots-Tag:noindex
X-PUBLISHED-TTL:PT1H
BEGIN:VTIMEZONE
TZID:America/Vancouver
BEGIN:DAYLIGHT
TZOFFSETFROM:-0800
TZOFFSETTO:-0700
TZNAME:PDT
DTSTART:20210314T100000
END:DAYLIGHT
BEGIN:STANDARD
TZOFFSETFROM:-0700
TZOFFSETTO:-0800
TZNAME:PST
DTSTART:20211107T090000
END:STANDARD
BEGIN:DAYLIGHT
TZOFFSETFROM:-0800
TZOFFSETTO:-0700
TZNAME:PDT
DTSTART:20220313T100000
END:DAYLIGHT
BEGIN:STANDARD
TZOFFSETFROM:-0700
TZOFFSETTO:-0800
TZNAME:PST
DTSTART:20221106T090000
END:STANDARD
BEGIN:DAYLIGHT
TZOFFSETFROM:-0800
TZOFFSETTO:-0700
TZNAME:PDT
DTSTART:20230312T100000
END:DAYLIGHT
BEGIN:STANDARD
TZOFFSETFROM:-0700
TZOFFSETTO:-0800
TZNAME:PST
DTSTART:20231105T090000
END:STANDARD
END:VTIMEZONE
BEGIN:VEVENT
DTSTART;TZID=America/Vancouver:20220601T180000
DTEND;TZID=America/Vancouver:20220601T200000
DTSTAMP:20260424T135628
CREATED:20220331T164803Z
LAST-MODIFIED:20220331T164803Z
UID:10000012-1654106400-1654113600@racetalkspdx.com
SUMMARY:Community + Conversations
DESCRIPTION:Community + Conversations: LGBTQIA2S+ Affinity Night  \nWe invite those who identify as Lesbian\, Gay\, Bisexual\, Trans\, Questioning\, Intersexual\, Asexual\, Two-Spirited (LGBTQIA2S)\, Non-Binary\, and non-listed queer community members to join us on the following days: March 2nd\, June 1st\, September 7th & December 7th. We will engage in affinity conversations in a safe space for our LGBTQIA2S+ allies to discuss historical and contemporary issues through the lens of race and racism.  \nIf you can please make a donation to RACE TALKS to support this work.
URL:https://racetalkspdx.com/event/community-conversations-2/
LOCATION:Hybrid – Q Center & Zoom\, 4115 N. Mississippi Ave\, Portland\, OR\, 97217\, United States
CATEGORIES:Community & Conversations,Community Calendar,Conversation Series,LGBTQIA2S Affinity,RACE TALKS Event
ATTACH;FMTTYPE=image/png:https://racetalkspdx.com/wp-content/uploads/2022/02/QT-Affinity-Group-Info-Graphic-1920-x-1005-px.png
ORGANIZER;CN="RACE TALKS%3A Uniting to Break the Chains of Racism":MAILTO:info@racetalkspdx.com
END:VEVENT
BEGIN:VEVENT
DTSTART;TZID=America/Vancouver:20220614T190000
DTEND;TZID=America/Vancouver:20220614T213000
DTSTAMP:20260424T135628
CREATED:20220331T165430Z
LAST-MODIFIED:20220613T183545Z
UID:10000023-1655233200-1655242200@racetalkspdx.com
SUMMARY:Books + Conversations
DESCRIPTION:Representatives from North Portland and Multnomah County Library will be at the RACE TALKS Books + Conversations Community Town Hall to discuss the upcoming renovation of the library building\, which will result in a temporary closure. We will also discuss plans for a Cultural Heritage Center. \nAbout Books + Conversations\nThe RACE TALKS Books + Conversations is an opportunity to participate in a book group facilitated by RACE TALKS: Uniting the Break the Chains of Racism. In-person or virtual participation may vary based on COVID protocols. Sign-up is offered quarterly and tickets will include the purchase of that month’s featured book. Books + Conversations are partnering exclusively with Third Eye Books.  \nFor the past 11 years\, RACE TALKS has offered a monthly community program. Each month a panel\, usually comprised primarily of People of Color\, is invited to discuss “a Historical or Contemporary Experience through the lens of RACE and RACISM.” From these discussions\, we’re hoping to start a life-long dialogue between groups of people who generally talk about each other\, but not to each other.  \n\n \n \n \n \n \n \n \n \n \n \n \n 
URL:https://racetalkspdx.com/event/books-conversations/
LOCATION:McMenamins Kennedy School Theater\, 5736 NE 33rd Ave\, Portland\, OR\, 97211\, United States
CATEGORIES:Books + Conversations,Community Calendar,Conversation Series,Forums,RACE TALKS Event
ATTACH;FMTTYPE=image/png:https://racetalkspdx.com/wp-content/uploads/2022/03/May-2022-BC-Poster-Final-.png
ORGANIZER;CN="RACE TALKS%3A Uniting to Break the Chains of Racism":MAILTO:info@racetalkspdx.com
END:VEVENT
BEGIN:VEVENT
DTSTART;TZID=America/Vancouver:20220616T190000
DTEND;TZID=America/Vancouver:20220616T210000
DTSTAMP:20260424T135628
CREATED:20220331T163558Z
LAST-MODIFIED:20220617T012902Z
UID:10000013-1655406000-1655413200@racetalkspdx.com
SUMMARY:The History of Black Drag in Portland: An Evening of Conversation & Performance
DESCRIPTION:Doors at 6:00 PM\, Program at 6:45 PM\nKEEP SCROLLING FOR TICKETS!\nVISIT OUR EVENT SITE TO LEARN MORE ABOUT THE INTERSECTIONALITY BETWEEN PRIDE AND JUNETEENTH\n\nTICKETS\nVirtual Tickets will be available until 10:00 PM \nCommunity Supported Tickets are available upon request for anyone who identifies as Black\, Indigenous\, People of Color (BIPOC)\, LGBTQIA2S+\, as well as students and seniors (65+).\nSTEP 1: Sign up for Community Supported Tickets Program here. \nSTEP 2: Return to this event page and RSVP for your in-person or virtual Community Supported ticket.
URL:https://racetalkspdx.com/event/history-of-black-drag-in-portland-an-evening-of-conversation-performance/
LOCATION:McMenamins Kennedy School Theater\, 5736 NE 33rd Ave\, Portland\, OR\, 97211\, United States
CATEGORIES:Community Calendar,Forums,RACE TALKS Event,Virtual Forum
ATTACH;FMTTYPE=image/jpeg:https://racetalkspdx.com/wp-content/uploads/2022/03/An-Evening-of-Conversation-Performance-The-History-of-Black-Drag-in-Portland.jpg
ORGANIZER;CN="RACE TALKS%3A Uniting to Break the Chains of Racism":MAILTO:info@racetalkspdx.com
END:VEVENT
END:VCALENDAR