BEGIN:VCALENDAR
VERSION:2.0
PRODID:-//RACE TALKS: Uniting to Break the Chains of Racism - ECPv6.15.20//NONSGML v1.0//EN
CALSCALE:GREGORIAN
METHOD:PUBLISH
X-ORIGINAL-URL:https://racetalkspdx.com
X-WR-CALDESC:Events for RACE TALKS: Uniting to Break the Chains of Racism
REFRESH-INTERVAL;VALUE=DURATION:PT1H
X-Robots-Tag:noindex
X-PUBLISHED-TTL:PT1H
BEGIN:VTIMEZONE
TZID:America/Vancouver
BEGIN:DAYLIGHT
TZOFFSETFROM:-0800
TZOFFSETTO:-0700
TZNAME:PDT
DTSTART:20210314T100000
END:DAYLIGHT
BEGIN:STANDARD
TZOFFSETFROM:-0700
TZOFFSETTO:-0800
TZNAME:PST
DTSTART:20211107T090000
END:STANDARD
BEGIN:DAYLIGHT
TZOFFSETFROM:-0800
TZOFFSETTO:-0700
TZNAME:PDT
DTSTART:20220313T100000
END:DAYLIGHT
BEGIN:STANDARD
TZOFFSETFROM:-0700
TZOFFSETTO:-0800
TZNAME:PST
DTSTART:20221106T090000
END:STANDARD
BEGIN:DAYLIGHT
TZOFFSETFROM:-0800
TZOFFSETTO:-0700
TZNAME:PDT
DTSTART:20230312T100000
END:DAYLIGHT
BEGIN:STANDARD
TZOFFSETFROM:-0700
TZOFFSETTO:-0800
TZNAME:PST
DTSTART:20231105T090000
END:STANDARD
END:VTIMEZONE
BEGIN:VEVENT
DTSTART;TZID=America/Vancouver:20220510T190000
DTEND;TZID=America/Vancouver:20220510T210000
DTSTAMP:20260424T140055
CREATED:20220326T013312Z
LAST-MODIFIED:20220514T003305Z
UID:10000015-1652209200-1652216400@racetalkspdx.com
SUMMARY:Movies + Conversations
DESCRIPTION:Join RACE TALKS and Mitzi Asai Loftus (Survivor) & Toby Asai Loftus (Descendant) as they explore the correlations between the incarceration of Japanese Americans during WWII and present-day refugee policies and protests. \nScreening of: OPB Oregon Experience – Japanese Oregon Americans: Beyond the Wire \n“Program provided courtesy of Oregon Public Broadcasting and the Oregon Historical Society. Funding for Oregon Experience “Oregon’s Japanese Americans: Beyond the Wire” was provided by the Harold & Arlene Schnitzer Care Foundation\, Arlene Schnitzer and Jordan Schnitzer\, the Robert D. & Marcia H. Randall Charitable Trust Fund for Lifelong Learning\, the Clark Foundation\, the Stephen D. and Marilyn C. Kerman Charitable Fund\, Kay Kitagawa and Andy Johnson-Laird\, Jon and Nancy Decherd\, and Russell and Sylvia Yamada.”\nRACE TALKS Community Forums are FREE and open to the public. If you can\, please make a donation to keep this programming free. \nIn-person seating is limited\, please RSVP your spot in advance. Participants must adhere to all COVID-19 guidelines\, and must be fully vaccinated or have proof of 72 hour negative test. They will still be required to wear a mask unless actively eating or drinking.
URL:https://racetalkspdx.com/event/movies-conversations/
LOCATION:Hybrid: McMenamins Kennedy School Gym & Zoom\, 5736 NE 33rd Ave\, Portland\, OR\, 97211\, United States
CATEGORIES:Community Calendar,Conversation Series,Movies + Conversations,RACE TALKS Event
ATTACH;FMTTYPE=image/png:https://racetalkspdx.com/wp-content/uploads/2022/03/May-Forum-Poster-Legal-Sized-8.5-×-14-in-2.png
ORGANIZER;CN="RACE TALKS%3A Uniting to Break the Chains of Racism":MAILTO:info@racetalkspdx.com
END:VEVENT
END:VCALENDAR