BEGIN:VCALENDAR
VERSION:2.0
PRODID:-//RACE TALKS: Uniting to Break the Chains of Racism - ECPv6.15.20//NONSGML v1.0//EN
CALSCALE:GREGORIAN
METHOD:PUBLISH
X-WR-CALNAME:RACE TALKS: Uniting to Break the Chains of Racism
X-ORIGINAL-URL:https://racetalkspdx.com
X-WR-CALDESC:Events for RACE TALKS: Uniting to Break the Chains of Racism
REFRESH-INTERVAL;VALUE=DURATION:PT1H
X-Robots-Tag:noindex
X-PUBLISHED-TTL:PT1H
BEGIN:VTIMEZONE
TZID:America/Vancouver
BEGIN:DAYLIGHT
TZOFFSETFROM:-0800
TZOFFSETTO:-0700
TZNAME:PDT
DTSTART:20210314T100000
END:DAYLIGHT
BEGIN:STANDARD
TZOFFSETFROM:-0700
TZOFFSETTO:-0800
TZNAME:PST
DTSTART:20211107T090000
END:STANDARD
BEGIN:DAYLIGHT
TZOFFSETFROM:-0800
TZOFFSETTO:-0700
TZNAME:PDT
DTSTART:20220313T100000
END:DAYLIGHT
BEGIN:STANDARD
TZOFFSETFROM:-0700
TZOFFSETTO:-0800
TZNAME:PST
DTSTART:20221106T090000
END:STANDARD
BEGIN:DAYLIGHT
TZOFFSETFROM:-0800
TZOFFSETTO:-0700
TZNAME:PDT
DTSTART:20230312T100000
END:DAYLIGHT
BEGIN:STANDARD
TZOFFSETFROM:-0700
TZOFFSETTO:-0800
TZNAME:PST
DTSTART:20231105T090000
END:STANDARD
END:VTIMEZONE
BEGIN:VEVENT
DTSTART;TZID=America/Vancouver:20220504T180000
DTEND;TZID=America/Vancouver:20220504T200000
DTSTAMP:20260424T135206
CREATED:20220317T005203Z
LAST-MODIFIED:20220504T192643Z
UID:10000025-1651687200-1651694400@racetalkspdx.com
SUMMARY:Community + Conversations
DESCRIPTION:Community + Conversations: White Ally Affinity Night  \nA Brave Space for White Ally Community Members \nWe invite community members who identify as White Allies to join us on the following days: February 2nd\, May 4th\, August 3rd\, and November 2nd. We will engage in affinity conversations in a brave space for White Allies to discuss historical and contemporary issues through the lens of race and racism. \nIf you can please make a donation to RACE TALKS to support this work.
URL:https://racetalkspdx.com/event/community-conversations/
LOCATION:Zoom
CATEGORIES:Community & Conversations,Community Calendar,Conversation Series,RACE TALKS Event,White Ally Affinity
ATTACH;FMTTYPE=image/png:https://racetalkspdx.com/wp-content/uploads/2022/03/May-White-Ally-FB-Event-Cover-1920-x-1005-px.png
ORGANIZER;CN="RACE TALKS%3A Uniting to Break the Chains of Racism":MAILTO:info@racetalkspdx.com
END:VEVENT
END:VCALENDAR