BEGIN:VCALENDAR
VERSION:2.0
PRODID:-//RACE TALKS: Uniting to Break the Chains of Racism - ECPv6.15.20//NONSGML v1.0//EN
CALSCALE:GREGORIAN
METHOD:PUBLISH
X-ORIGINAL-URL:https://racetalkspdx.com
X-WR-CALDESC:Events for RACE TALKS: Uniting to Break the Chains of Racism
REFRESH-INTERVAL;VALUE=DURATION:PT1H
X-Robots-Tag:noindex
X-PUBLISHED-TTL:PT1H
BEGIN:VTIMEZONE
TZID:America/Vancouver
BEGIN:DAYLIGHT
TZOFFSETFROM:-0800
TZOFFSETTO:-0700
TZNAME:PDT
DTSTART:20210314T100000
END:DAYLIGHT
BEGIN:STANDARD
TZOFFSETFROM:-0700
TZOFFSETTO:-0800
TZNAME:PST
DTSTART:20211107T090000
END:STANDARD
BEGIN:DAYLIGHT
TZOFFSETFROM:-0800
TZOFFSETTO:-0700
TZNAME:PDT
DTSTART:20220313T100000
END:DAYLIGHT
BEGIN:STANDARD
TZOFFSETFROM:-0700
TZOFFSETTO:-0800
TZNAME:PST
DTSTART:20221106T090000
END:STANDARD
BEGIN:DAYLIGHT
TZOFFSETFROM:-0800
TZOFFSETTO:-0700
TZNAME:PDT
DTSTART:20230312T100000
END:DAYLIGHT
BEGIN:STANDARD
TZOFFSETFROM:-0700
TZOFFSETTO:-0800
TZNAME:PST
DTSTART:20231105T090000
END:STANDARD
END:VTIMEZONE
BEGIN:VEVENT
DTSTART;TZID=America/Vancouver:20220421T190000
DTEND;TZID=America/Vancouver:20220421T210000
DTSTAMP:20260424T122701
CREATED:20220324T213302Z
LAST-MODIFIED:20220420T212445Z
UID:10000016-1650567600-1650574800@racetalkspdx.com
SUMMARY:Candidate Forum
DESCRIPTION:Join us for our RACE TALKS 2022 May Primary Candidates Forum. We invited candidates from the Portland City Commissioner\, Positions 2 & 3 races\, as well as Portland City Auditor. We will select candidates on a first-come\, first-served basis\, and space is reserved for incumbents running for re-election.  \nWe are a non-partisan organization\, so we will not discuss specific matters regarding an individual’s platform or priority areas that go beyond matters of race\, equity\, and inclusion. This forum is an opportunity to allow voters to hear the candidates’ race-focused values that\, if elected\, will influence their decision-making around policy and the rule of law. 
URL:https://racetalkspdx.com/event/candidate-forum/
LOCATION:VIRTUAL EVENT
CATEGORIES:Community Calendar,Forums,RACE TALKS Event,Virtual Forum
ATTACH;FMTTYPE=image/png:https://racetalkspdx.com/wp-content/uploads/2022/03/RACE-TALKS-Uniting-to-Break-the-Chains-of-Racism-Presented-by-Donna-Maxey-8-1.png
ORGANIZER;CN="RACE TALKS%3A Uniting to Break the Chains of Racism":MAILTO:info@racetalkspdx.com
END:VEVENT
END:VCALENDAR